BEGIN:VCALENDAR
VERSION:2.0
PRODID:-//spbstu.ru//ical//RU
NAME:Расписание
X-WR-CALNAME:Расписание
TIMEZONE-ID:Europe/Moscow
X-WR-TIMEZONE:Europe/Moscow
BEGIN:VEVENT
UID:7h9d@192.168.245.71:3006
SEQUENCE:0
DTSTAMP:20260421T164335Z
DTSTART:20260224T110000Z
DTEND:20260224T124000Z
SUMMARY:Детали машин и основы конструирования
LOCATION:1 к. 412
END:VEVENT
BEGIN:VEVENT
UID:ed45@192.168.245.71:3006
SEQUENCE:0
DTSTAMP:20260421T164335Z
DTSTART:20260225T090000Z
DTEND:20260225T104000Z
SUMMARY:Введение в механику машин
LOCATION:Мех. к. каф.Т ММ
END:VEVENT
BEGIN:VEVENT
UID:0tlu@192.168.245.71:3006
SEQUENCE:0
DTSTAMP:20260421T164335Z
DTSTART:20260225T110000Z
DTEND:20260225T124000Z
SUMMARY:Введение в механику машин
LOCATION:Мех. к. каф.Т ММ
END:VEVENT
BEGIN:VEVENT
UID:idow@192.168.245.71:3006
SEQUENCE:0
DTSTAMP:20260421T164335Z
DTSTART:20260227T090000Z
DTEND:20260227T104000Z
SUMMARY:Детали машин и основы конструирования
LOCATION:Мех. к. каф.Т ММ
END:VEVENT
BEGIN:VEVENT
UID:gaev@192.168.245.71:3006
SEQUENCE:0
DTSTAMP:20260421T164335Z
DTSTART:20260227T110000Z
DTEND:20260227T124000Z
SUMMARY:Теория механизмов и машин
LOCATION:Мех. к. каф.Т ММ
END:VEVENT
BEGIN:VEVENT
UID:3tgg@192.168.245.71:3006
SEQUENCE:0
DTSTAMP:20260421T164335Z
DTSTART:20260227T130000Z
DTEND:20260227T144000Z
SUMMARY:Введение в механику машин
LOCATION:Мех. к. каф.Т ММ
END:VEVENT
END:VCALENDAR