BEGIN:VCALENDAR
VERSION:2.0
PRODID:-//spbstu.ru//ical//RU
NAME:Расписание
X-WR-CALNAME:Расписание
TIMEZONE-ID:Europe/Moscow
X-WR-TIMEZONE:Europe/Moscow
BEGIN:VEVENT
UID:pb5x@192.168.245.71:3006
SEQUENCE:0
DTSTAMP:20260420T221526Z
DTSTART:20260407T110000Z
DTEND:20260407T124000Z
SUMMARY:Детали машин и основы конструирования
LOCATION:1 к. 412
END:VEVENT
BEGIN:VEVENT
UID:xxbc@192.168.245.71:3006
SEQUENCE:0
DTSTAMP:20260420T221526Z
DTSTART:20260407T130000Z
DTEND:20260407T144000Z
SUMMARY:Теория механизмов и машин
LOCATION:1 к. 435
END:VEVENT
BEGIN:VEVENT
UID:2tit@192.168.245.71:3006
SEQUENCE:0
DTSTAMP:20260420T221526Z
DTSTART:20260408T090000Z
DTEND:20260408T104000Z
SUMMARY:Введение в механику машин
LOCATION:Мех. к. каф.Т ММ
END:VEVENT
BEGIN:VEVENT
UID:grfc@192.168.245.71:3006
SEQUENCE:0
DTSTAMP:20260420T221526Z
DTSTART:20260408T110000Z
DTEND:20260408T124000Z
SUMMARY:Введение в механику машин
LOCATION:Мех. к. каф.Т ММ
END:VEVENT
BEGIN:VEVENT
UID:rv6m@192.168.245.71:3006
SEQUENCE:0
DTSTAMP:20260420T221526Z
DTSTART:20260410T090000Z
DTEND:20260410T104000Z
SUMMARY:Детали машин и основы конструирования
LOCATION:Мех. к. каф.Т ММ
END:VEVENT
BEGIN:VEVENT
UID:b0ua@192.168.245.71:3006
SEQUENCE:0
DTSTAMP:20260420T221526Z
DTSTART:20260410T110000Z
DTEND:20260410T124000Z
SUMMARY:Теория механизмов и машин
LOCATION:Мех. к. каф.Т ММ
END:VEVENT
BEGIN:VEVENT
UID:dgt2@192.168.245.71:3006
SEQUENCE:0
DTSTAMP:20260420T221526Z
DTSTART:20260410T130000Z
DTEND:20260410T144000Z
SUMMARY:Введение в механику машин
LOCATION:Мех. к. каф.Т ММ
END:VEVENT
END:VCALENDAR