BEGIN:VCALENDAR
VERSION:2.0
PRODID:-//spbstu.ru//ical//RU
NAME:Расписание
X-WR-CALNAME:Расписание
TIMEZONE-ID:Europe/Moscow
X-WR-TIMEZONE:Europe/Moscow
BEGIN:VEVENT
UID:6nmx@192.168.245.71:3006
SEQUENCE:0
DTSTAMP:20260421T084641Z
DTSTART:20260429T170000Z
DTEND:20260429T184000Z
SUMMARY:Цифровая этика
LOCATION:16 к. 203
END:VEVENT
BEGIN:VEVENT
UID:nw7h@192.168.245.71:3006
SEQUENCE:0
DTSTAMP:20260421T084641Z
DTSTART:20260430T153000Z
DTEND:20260430T171000Z
SUMMARY:Философия
LOCATION:ГК 230
END:VEVENT
END:VCALENDAR