BEGIN:VCALENDAR
VERSION:2.0
PRODID:-//spbstu.ru//ical//RU
NAME:Расписание
X-WR-CALNAME:Расписание
TIMEZONE-ID:Europe/Moscow
X-WR-TIMEZONE:Europe/Moscow
BEGIN:VEVENT
UID:z0qr@192.168.245.71:3006
SEQUENCE:0
DTSTAMP:20260422T070835Z
DTSTART:20260618T110000Z
DTEND:20260618T124000Z
SUMMARY:Экономика предприятия
LOCATION:50 уч.к 1214
END:VEVENT
BEGIN:VEVENT
UID:2gnz@192.168.245.71:3006
SEQUENCE:0
DTSTAMP:20260422T070835Z
DTSTART:20260618T110000Z
DTEND:20260618T124000Z
SUMMARY:Экономика предприятия
LOCATION:50 уч.к 1214
END:VEVENT
BEGIN:VEVENT
UID:8l6v@192.168.245.71:3006
SEQUENCE:0
DTSTAMP:20260422T070835Z
DTSTART:20260618T110000Z
DTEND:20260618T124000Z
SUMMARY:Экономика предприятия
LOCATION:50 уч.к 1214
END:VEVENT
BEGIN:VEVENT
UID:fhar@192.168.245.71:3006
SEQUENCE:0
DTSTAMP:20260422T070835Z
DTSTART:20260618T110000Z
DTEND:20260618T124000Z
SUMMARY:Экономика предприятия
LOCATION:50 уч.к 1214
END:VEVENT
BEGIN:VEVENT
UID:lnk4@192.168.245.71:3006
SEQUENCE:0
DTSTAMP:20260422T070835Z
DTSTART:20260618T110000Z
DTEND:20260618T124000Z
SUMMARY:Экономика предприятия
LOCATION:50 уч.к 1214
END:VEVENT
BEGIN:VEVENT
UID:ctky@192.168.245.71:3006
SEQUENCE:0
DTSTAMP:20260422T070835Z
DTSTART:20260618T110000Z
DTEND:20260618T124000Z
SUMMARY:Экономика предприятия
LOCATION:50 уч.к 1214
END:VEVENT
BEGIN:VEVENT
UID:712c@192.168.245.71:3006
SEQUENCE:0
DTSTAMP:20260422T070835Z
DTSTART:20260618T110000Z
DTEND:20260618T124000Z
SUMMARY:Экономика предприятия
LOCATION:50 уч.к 1214
END:VEVENT
BEGIN:VEVENT
UID:xgex@192.168.245.71:3006
SEQUENCE:0
DTSTAMP:20260422T070835Z
DTSTART:20260618T110000Z
DTEND:20260618T124000Z
SUMMARY:Экономика предприятия
LOCATION:50 уч.к 1214
END:VEVENT
BEGIN:VEVENT
UID:jiw9@192.168.245.71:3006
SEQUENCE:0
DTSTAMP:20260422T070835Z
DTSTART:20260619T070000Z
DTEND:20260619T084000Z
SUMMARY:Экономика предприятия
LOCATION:50 уч.к 1110
END:VEVENT
BEGIN:VEVENT
UID:htxc@192.168.245.71:3006
SEQUENCE:0
DTSTAMP:20260422T070835Z
DTSTART:20260619T090000Z
DTEND:20260619T104000Z
SUMMARY:Экономика предприятия
LOCATION:50 уч.к 1110
END:VEVENT
BEGIN:VEVENT
UID:ruf5@192.168.245.71:3006
SEQUENCE:0
DTSTAMP:20260422T070835Z
DTSTART:20260619T110000Z
DTEND:20260619T124000Z
SUMMARY:Экономика предприятия
LOCATION:50 уч.к 1110
END:VEVENT
BEGIN:VEVENT
UID:pw2b@192.168.245.71:3006
SEQUENCE:0
DTSTAMP:20260422T070835Z
DTSTART:20260619T130000Z
DTEND:20260619T144000Z
SUMMARY:Экономика предприятия
LOCATION:50 уч.к 1110
END:VEVENT
END:VCALENDAR