BEGIN:VCALENDAR
VERSION:2.0
PRODID:-//spbstu.ru//ical//RU
NAME:Расписание
X-WR-CALNAME:Расписание
TIMEZONE-ID:Europe/Moscow
X-WR-TIMEZONE:Europe/Moscow
BEGIN:VEVENT
UID:p3fg@192.168.245.71:3006
SEQUENCE:0
DTSTAMP:20260423T195407Z
DTSTART:20251027T130000Z
DTEND:20251027T144000Z
SUMMARY:Инструменты автоматизации сетей связи
LOCATION:2 к. 249
END:VEVENT
BEGIN:VEVENT
UID:vnpy@192.168.245.71:3006
SEQUENCE:0
DTSTAMP:20260423T195407Z
DTSTART:20251028T090000Z
DTEND:20251028T104000Z
SUMMARY:Математическое моделирование радиотехнических устройств и систем
LOCATION:2 к. 253
END:VEVENT
BEGIN:VEVENT
UID:ndok@192.168.245.71:3006
SEQUENCE:0
DTSTAMP:20260423T195407Z
DTSTART:20251028T110000Z
DTEND:20251028T124000Z
SUMMARY:Методы моделирования и оптимизации
LOCATION:2 к. 253
END:VEVENT
END:VCALENDAR