BEGIN:VCALENDAR
VERSION:2.0
PRODID:-//spbstu.ru//ical//RU
NAME:Расписание
X-WR-CALNAME:Расписание
TIMEZONE-ID:Europe/Moscow
X-WR-TIMEZONE:Europe/Moscow
BEGIN:VEVENT
UID:s0vx@192.168.245.71:3006
SEQUENCE:0
DTSTAMP:20260423T024304Z
DTSTART:20251124T130000Z
DTEND:20251124T144000Z
SUMMARY:Инструменты автоматизации сетей связи
LOCATION:2 к. 249
END:VEVENT
BEGIN:VEVENT
UID:zat4@192.168.245.71:3006
SEQUENCE:0
DTSTAMP:20260423T024304Z
DTSTART:20251125T090000Z
DTEND:20251125T104000Z
SUMMARY:Математическое моделирование радиотехнических устройств и систем
LOCATION:2 к. 253
END:VEVENT
BEGIN:VEVENT
UID:zu4h@192.168.245.71:3006
SEQUENCE:0
DTSTAMP:20260423T024304Z
DTSTART:20251125T110000Z
DTEND:20251125T124000Z
SUMMARY:Методы моделирования и оптимизации
LOCATION:2 к. 253
END:VEVENT
END:VCALENDAR