BEGIN:VCALENDAR
VERSION:2.0
PRODID:-//spbstu.ru//ical//RU
NAME:Расписание
X-WR-CALNAME:Расписание
TIMEZONE-ID:Europe/Moscow
X-WR-TIMEZONE:Europe/Moscow
BEGIN:VEVENT
UID:6sp9@192.168.245.71:3006
SEQUENCE:0
DTSTAMP:20260424T112438Z
DTSTART:20250915T130000Z
DTEND:20250915T144000Z
SUMMARY:Инструменты автоматизации сетей связи
LOCATION:2 к. 249
END:VEVENT
BEGIN:VEVENT
UID:61i5@192.168.245.71:3006
SEQUENCE:0
DTSTAMP:20260424T112438Z
DTSTART:20250915T150000Z
DTEND:20250915T164000Z
SUMMARY:Численные методы
LOCATION:2 к. 249
END:VEVENT
BEGIN:VEVENT
UID:k2d7@192.168.245.71:3006
SEQUENCE:0
DTSTAMP:20260424T112438Z
DTSTART:20250916T090000Z
DTEND:20250916T104000Z
SUMMARY:Математическое моделирование радиотехнических устройств и систем
LOCATION:2 к. 253
END:VEVENT
BEGIN:VEVENT
UID:xa4k@192.168.245.71:3006
SEQUENCE:0
DTSTAMP:20260424T112438Z
DTSTART:20250916T110000Z
DTEND:20250916T124000Z
SUMMARY:Методы моделирования и оптимизации
LOCATION:2 к. 253
END:VEVENT
END:VCALENDAR