BEGIN:VCALENDAR
VERSION:2.0
PRODID:-//spbstu.ru//ical//RU
NAME:Расписание
X-WR-CALNAME:Расписание
TIMEZONE-ID:Europe/Moscow
X-WR-TIMEZONE:Europe/Moscow
BEGIN:VEVENT
UID:169u@192.168.245.71:3006
SEQUENCE:0
DTSTAMP:20260424T080531Z
DTSTART:20250929T130000Z
DTEND:20250929T144000Z
SUMMARY:Инструменты автоматизации сетей связи
LOCATION:2 к. 249
END:VEVENT
BEGIN:VEVENT
UID:0djb@192.168.245.71:3006
SEQUENCE:0
DTSTAMP:20260424T080531Z
DTSTART:20250929T150000Z
DTEND:20250929T160000Z
SUMMARY:Введение в профессиональную деятельность
LOCATION:2 к. 353
END:VEVENT
BEGIN:VEVENT
UID:q33j@192.168.245.71:3006
SEQUENCE:0
DTSTAMP:20260424T080531Z
DTSTART:20250930T090000Z
DTEND:20250930T104000Z
SUMMARY:Математическое моделирование радиотехнических устройств и систем
LOCATION:2 к. 253
END:VEVENT
BEGIN:VEVENT
UID:sfvc@192.168.245.71:3006
SEQUENCE:0
DTSTAMP:20260424T080531Z
DTSTART:20250930T110000Z
DTEND:20250930T124000Z
SUMMARY:Методы моделирования и оптимизации
LOCATION:2 к. 253
END:VEVENT
END:VCALENDAR