BEGIN:VCALENDAR
VERSION:2.0
PRODID:-//spbstu.ru//ical//RU
NAME:Расписание
X-WR-CALNAME:Расписание
TIMEZONE-ID:Europe/Moscow
X-WR-TIMEZONE:Europe/Moscow
BEGIN:VEVENT
UID:7wfc@192.168.245.71:3006
SEQUENCE:0
DTSTAMP:20260425T230855Z
DTSTART:20251015T070000Z
DTEND:20251015T084000Z
SUMMARY:Вычислительная математика
LOCATION:3 к. 211
END:VEVENT
BEGIN:VEVENT
UID:2w5l@192.168.245.71:3006
SEQUENCE:0
DTSTAMP:20260425T230855Z
DTSTART:20251015T090000Z
DTEND:20251015T104000Z
SUMMARY:Вычислительная математика
LOCATION:3 к. 211
END:VEVENT
BEGIN:VEVENT
UID:ciht@192.168.245.71:3006
SEQUENCE:0
DTSTAMP:20260425T230855Z
DTSTART:20251016T070000Z
DTEND:20251016T084000Z
SUMMARY:Вычислительная математика
LOCATION:3 к. 211
END:VEVENT
BEGIN:VEVENT
UID:mo6f@192.168.245.71:3006
SEQUENCE:0
DTSTAMP:20260425T230855Z
DTSTART:20251016T090000Z
DTEND:20251016T104000Z
SUMMARY:Вычислительная математика
LOCATION:3 к. 211
END:VEVENT
END:VCALENDAR