BEGIN:VCALENDAR
VERSION:2.0
PRODID:-//spbstu.ru//ical//RU
NAME:Расписание
X-WR-CALNAME:Расписание
TIMEZONE-ID:Europe/Moscow
X-WR-TIMEZONE:Europe/Moscow
BEGIN:VEVENT
UID:85f0@192.168.245.71:3006
SEQUENCE:0
DTSTAMP:20260421T001126Z
DTSTART:20260428T090000Z
DTEND:20260428T104000Z
SUMMARY:Дискретная математика
LOCATION:3 к. 201
END:VEVENT
BEGIN:VEVENT
UID:0qu6@192.168.245.71:3006
SEQUENCE:0
DTSTAMP:20260421T001126Z
DTSTART:20260428T110000Z
DTEND:20260428T124000Z
SUMMARY:Дискретная математика
LOCATION:3 к. 209
END:VEVENT
BEGIN:VEVENT
UID:fdim@192.168.245.71:3006
SEQUENCE:0
DTSTAMP:20260421T001126Z
DTSTART:20260428T130000Z
DTEND:20260428T144000Z
SUMMARY:Вычислительная математика
LOCATION:3 к. 505
END:VEVENT
BEGIN:VEVENT
UID:a9vp@192.168.245.71:3006
SEQUENCE:0
DTSTAMP:20260421T001126Z
DTSTART:20260429T090000Z
DTEND:20260429T104000Z
SUMMARY:Вычислительная математика
LOCATION:3 к. 404а
END:VEVENT
BEGIN:VEVENT
UID:8nlf@192.168.245.71:3006
SEQUENCE:0
DTSTAMP:20260421T001126Z
DTSTART:20260430T070000Z
DTEND:20260430T084000Z
SUMMARY:Вычислительная математика
LOCATION:3 к. 302
END:VEVENT
BEGIN:VEVENT
UID:87rc@192.168.245.71:3006
SEQUENCE:0
DTSTAMP:20260421T001126Z
DTSTART:20260430T090000Z
DTEND:20260430T104000Z
SUMMARY:Вычислительная математика
LOCATION:3 к. 302
END:VEVENT
END:VCALENDAR