BEGIN:VCALENDAR
VERSION:2.0
PRODID:-//spbstu.ru//ical//RU
NAME:Расписание
X-WR-CALNAME:Расписание
TIMEZONE-ID:Europe/Moscow
X-WR-TIMEZONE:Europe/Moscow
BEGIN:VEVENT
UID:2t0q@192.168.245.71:3006
SEQUENCE:0
DTSTAMP:20260425T031609Z
DTSTART:20251203T070000Z
DTEND:20251203T084000Z
SUMMARY:Методы оптимизации
LOCATION:3 к. 111
END:VEVENT
BEGIN:VEVENT
UID:c9k8@192.168.245.71:3006
SEQUENCE:0
DTSTAMP:20260425T031609Z
DTSTART:20251203T090000Z
DTEND:20251203T104000Z
SUMMARY:Методы оптимизации
LOCATION:3 к. 111
END:VEVENT
BEGIN:VEVENT
UID:lmiz@192.168.245.71:3006
SEQUENCE:0
DTSTAMP:20260425T031609Z
DTSTART:20251203T110000Z
DTEND:20251203T124000Z
SUMMARY:Методы оптимизации
LOCATION:3 к. 111
END:VEVENT
BEGIN:VEVENT
UID:tytp@192.168.245.71:3006
SEQUENCE:0
DTSTAMP:20260425T031609Z
DTSTART:20251203T140000Z
DTEND:20251203T154000Z
SUMMARY:Методы оптимизации
LOCATION:DL Дистанционно
END:VEVENT
BEGIN:VEVENT
UID:uf9r@192.168.245.71:3006
SEQUENCE:0
DTSTAMP:20260425T031609Z
DTSTART:20251204T090000Z
DTEND:20251204T104000Z
SUMMARY:Методы оптимизации
LOCATION:3 к. 111
END:VEVENT
BEGIN:VEVENT
UID:w2yk@192.168.245.71:3006
SEQUENCE:0
DTSTAMP:20260425T031609Z
DTSTART:20251204T110000Z
DTEND:20251204T124000Z
SUMMARY:Методы оптимизации
LOCATION:3 к. 111
END:VEVENT
BEGIN:VEVENT
UID:dv36@192.168.245.71:3006
SEQUENCE:0
DTSTAMP:20260425T031609Z
DTSTART:20251204T130000Z
DTEND:20251204T144000Z
SUMMARY:Методы оптимизации
LOCATION:3 к. 111
END:VEVENT
END:VCALENDAR