BEGIN:VCALENDAR
VERSION:2.0
PRODID:-//spbstu.ru//ical//RU
NAME:Расписание
X-WR-CALNAME:Расписание
TIMEZONE-ID:Europe/Moscow
X-WR-TIMEZONE:Europe/Moscow
BEGIN:VEVENT
UID:zrxc@192.168.245.71:3006
SEQUENCE:0
DTSTAMP:20260424T135013Z
DTSTART:20260119T070000Z
DTEND:20260119T140000Z
SUMMARY:Методы оптимизации
LOCATION:3 к. 101
END:VEVENT
BEGIN:VEVENT
UID:77g0@192.168.245.71:3006
SEQUENCE:0
DTSTAMP:20260424T135013Z
DTSTART:20260119T130000Z
DTEND:20260119T144000Z
SUMMARY:Методы оптимизации
LOCATION:3 к. 101
END:VEVENT
BEGIN:VEVENT
UID:60pj@192.168.245.71:3006
SEQUENCE:0
DTSTAMP:20260424T135013Z
DTSTART:20260120T070000Z
DTEND:20260120T140000Z
SUMMARY:Методы оптимизации
LOCATION:3 к. 501
END:VEVENT
BEGIN:VEVENT
UID:eo9b@192.168.245.71:3006
SEQUENCE:0
DTSTAMP:20260424T135013Z
DTSTART:20260122T130000Z
DTEND:20260122T144000Z
SUMMARY:Методы оптимизации
LOCATION:3 к. 101
END:VEVENT
BEGIN:VEVENT
UID:zm7y@192.168.245.71:3006
SEQUENCE:0
DTSTAMP:20260424T135013Z
DTSTART:20260123T070000Z
DTEND:20260123T140000Z
SUMMARY:Методы оптимизации
LOCATION:3 к. 101
END:VEVENT
END:VCALENDAR