BEGIN:VCALENDAR
VERSION:2.0
PRODID:-//spbstu.ru//ical//RU
NAME:Расписание
X-WR-CALNAME:Расписание
TIMEZONE-ID:Europe/Moscow
X-WR-TIMEZONE:Europe/Moscow
BEGIN:VEVENT
UID:4hch@192.168.245.71:3006
SEQUENCE:0
DTSTAMP:20260426T022347Z
DTSTART:20251001T110000Z
DTEND:20251001T124000Z
SUMMARY:Морские нефтегазовые сооружения
LOCATION:ГК-2 301а
END:VEVENT
BEGIN:VEVENT
UID:qxk0@192.168.245.71:3006
SEQUENCE:0
DTSTAMP:20260426T022347Z
DTSTART:20251001T130000Z
DTEND:20251001T144000Z
SUMMARY:Управление проектами в ГТС
LOCATION:ГК-2 508
END:VEVENT
BEGIN:VEVENT
UID:7kvh@192.168.245.71:3006
SEQUENCE:0
DTSTAMP:20260426T022347Z
DTSTART:20251002T070000Z
DTEND:20251002T084000Z
SUMMARY:Сооружения континентального шельфа
LOCATION:ГК-2 508
END:VEVENT
BEGIN:VEVENT
UID:f4gh@192.168.245.71:3006
SEQUENCE:0
DTSTAMP:20260426T022347Z
DTSTART:20251002T090000Z
DTEND:20251002T104000Z
SUMMARY:Управление проектами в ГТС
LOCATION:ГК-2 301а
END:VEVENT
BEGIN:VEVENT
UID:mxkb@192.168.245.71:3006
SEQUENCE:0
DTSTAMP:20260426T022347Z
DTSTART:20251002T110000Z
DTEND:20251002T125000Z
SUMMARY:Цифровое моделирование зданий и сооружений
LOCATION:ГК-2 508
END:VEVENT
BEGIN:VEVENT
UID:6cqy@192.168.245.71:3006
SEQUENCE:0
DTSTAMP:20260426T022347Z
DTSTART:20251003T070000Z
DTEND:20251003T084000Z
SUMMARY:Цифровое моделирование зданий и сооружений
LOCATION:DL Дистанционно
END:VEVENT
BEGIN:VEVENT
UID:bzq6@192.168.245.71:3006
SEQUENCE:0
DTSTAMP:20260426T022347Z
DTSTART:20251003T090000Z
DTEND:20251003T104000Z
SUMMARY:Цифровое моделирование зданий и сооружений
LOCATION:DL Дистанционно
END:VEVENT
END:VCALENDAR