BEGIN:VCALENDAR
VERSION:2.0
PRODID:-//spbstu.ru//ical//RU
NAME:Расписание
X-WR-CALNAME:Расписание
TIMEZONE-ID:Europe/Moscow
X-WR-TIMEZONE:Europe/Moscow
BEGIN:VEVENT
UID:87s2@192.168.245.71:3006
SEQUENCE:0
DTSTAMP:20260422T022925Z
DTSTART:20260526T070000Z
DTEND:20260526T094000Z
SUMMARY:Налоги и таможенные платежи
LOCATION:50 уч.к 1101
END:VEVENT
END:VCALENDAR