BEGIN:VCALENDAR
VERSION:2.0
PRODID:-//spbstu.ru//ical//RU
NAME:Расписание
X-WR-CALNAME:Расписание
TIMEZONE-ID:Europe/Moscow
X-WR-TIMEZONE:Europe/Moscow
BEGIN:VEVENT
UID:2nw7@192.168.245.71:3006
SEQUENCE:0
DTSTAMP:20260421T215143Z
DTSTART:20260202T090000Z
DTEND:20260202T104000Z
SUMMARY:Сопротивление материалов
LOCATION:ГЗ 208
END:VEVENT
BEGIN:VEVENT
UID:0rd3@192.168.245.71:3006
SEQUENCE:0
DTSTAMP:20260421T215143Z
DTSTART:20260202T110000Z
DTEND:20260202T124000Z
SUMMARY:Сопротивление материалов
LOCATION:1 к. 436
END:VEVENT
BEGIN:VEVENT
UID:mtp5@192.168.245.71:3006
SEQUENCE:0
DTSTAMP:20260421T215143Z
DTSTART:20260203T110000Z
DTEND:20260203T124000Z
SUMMARY:Сопротивление материалов
LOCATION:ГК-2 502
END:VEVENT
BEGIN:VEVENT
UID:eyud@192.168.245.71:3006
SEQUENCE:0
DTSTAMP:20260421T215143Z
DTSTART:20260204T110000Z
DTEND:20260204T124000Z
SUMMARY:Сопротивление материалов
LOCATION:ГЗ 211
END:VEVENT
BEGIN:VEVENT
UID:khkh@192.168.245.71:3006
SEQUENCE:0
DTSTAMP:20260421T215143Z
DTSTART:20260204T130000Z
DTEND:20260204T144000Z
SUMMARY:Сопротивление материалов
LOCATION:ГЗ 211
END:VEVENT
BEGIN:VEVENT
UID:eq9n@192.168.245.71:3006
SEQUENCE:0
DTSTAMP:20260421T215143Z
DTSTART:20260206T070000Z
DTEND:20260206T084000Z
SUMMARY:Сопротивление материалов
LOCATION:ГК-2 503
END:VEVENT
BEGIN:VEVENT
UID:jhqq@192.168.245.71:3006
SEQUENCE:0
DTSTAMP:20260421T215143Z
DTSTART:20260206T090000Z
DTEND:20260206T104000Z
SUMMARY:Сопротивление материалов
LOCATION:ГК-2 503
END:VEVENT
BEGIN:VEVENT
UID:6fbb@192.168.245.71:3006
SEQUENCE:0
DTSTAMP:20260421T215143Z
DTSTART:20260207T070000Z
DTEND:20260207T084000Z
SUMMARY:Сопротивление материалов
LOCATION:ГЗ 280
END:VEVENT
END:VCALENDAR