BEGIN:VCALENDAR
VERSION:2.0
PRODID:-//spbstu.ru//ical//RU
NAME:Расписание
X-WR-CALNAME:Расписание
TIMEZONE-ID:Europe/Moscow
X-WR-TIMEZONE:Europe/Moscow
BEGIN:VEVENT
UID:z5wt@192.168.245.71:3006
SEQUENCE:0
DTSTAMP:20260421T070319Z
DTSTART:20260310T110000Z
DTEND:20260310T124000Z
SUMMARY:Сопротивление материалов
LOCATION:ГК-2 502
END:VEVENT
BEGIN:VEVENT
UID:mut7@192.168.245.71:3006
SEQUENCE:0
DTSTAMP:20260421T070319Z
DTSTART:20260310T150000Z
DTEND:20260310T164000Z
SUMMARY:Сопротивление материалов
LOCATION:ГК-2 405
END:VEVENT
BEGIN:VEVENT
UID:ao44@192.168.245.71:3006
SEQUENCE:0
DTSTAMP:20260421T070319Z
DTSTART:20260311T110000Z
DTEND:20260311T124000Z
SUMMARY:Сопротивление материалов
LOCATION:ГЗ 211
END:VEVENT
BEGIN:VEVENT
UID:rtfw@192.168.245.71:3006
SEQUENCE:0
DTSTAMP:20260421T070319Z
DTSTART:20260311T130000Z
DTEND:20260311T144000Z
SUMMARY:Сопротивление материалов
LOCATION:ГЗ 211
END:VEVENT
BEGIN:VEVENT
UID:q0eh@192.168.245.71:3006
SEQUENCE:0
DTSTAMP:20260421T070319Z
DTSTART:20260313T070000Z
DTEND:20260313T084000Z
SUMMARY:Сопротивление материалов
LOCATION:ГК-2 503
END:VEVENT
BEGIN:VEVENT
UID:sxkk@192.168.245.71:3006
SEQUENCE:0
DTSTAMP:20260421T070319Z
DTSTART:20260313T090000Z
DTEND:20260313T104000Z
SUMMARY:Сопротивление материалов
LOCATION:ГК-2 503
END:VEVENT
END:VCALENDAR