BEGIN:VCALENDAR
VERSION:2.0
PRODID:-//spbstu.ru//ical//RU
NAME:Расписание
X-WR-CALNAME:Расписание
TIMEZONE-ID:Europe/Moscow
X-WR-TIMEZONE:Europe/Moscow
BEGIN:VEVENT
UID:al7b@192.168.245.71:3006
SEQUENCE:0
DTSTAMP:20260420T190525Z
DTSTART:20260420T090000Z
DTEND:20260420T104000Z
SUMMARY:Сопротивление материалов
LOCATION:ГЗ 240
END:VEVENT
BEGIN:VEVENT
UID:tuje@192.168.245.71:3006
SEQUENCE:0
DTSTAMP:20260420T190525Z
DTSTART:20260420T110000Z
DTEND:20260420T124000Z
SUMMARY:Сопротивление материалов
LOCATION:1 к. 413
END:VEVENT
BEGIN:VEVENT
UID:j7nv@192.168.245.71:3006
SEQUENCE:0
DTSTAMP:20260420T190525Z
DTSTART:20260420T130000Z
DTEND:20260420T144000Z
SUMMARY:Сопротивление материалов
LOCATION:1 к. 413
END:VEVENT
BEGIN:VEVENT
UID:3fnz@192.168.245.71:3006
SEQUENCE:0
DTSTAMP:20260420T190525Z
DTSTART:20260421T110000Z
DTEND:20260421T124000Z
SUMMARY:Сопротивление материалов
LOCATION:ГК-2 502
END:VEVENT
BEGIN:VEVENT
UID:mu4t@192.168.245.71:3006
SEQUENCE:0
DTSTAMP:20260420T190525Z
DTSTART:20260422T110000Z
DTEND:20260422T124000Z
SUMMARY:Сопротивление материалов
LOCATION:ГЗ 211
END:VEVENT
BEGIN:VEVENT
UID:kjit@192.168.245.71:3006
SEQUENCE:0
DTSTAMP:20260420T190525Z
DTSTART:20260422T130000Z
DTEND:20260422T144000Z
SUMMARY:Сопротивление материалов
LOCATION:ГЗ 211
END:VEVENT
BEGIN:VEVENT
UID:2ngh@192.168.245.71:3006
SEQUENCE:0
DTSTAMP:20260420T190525Z
DTSTART:20260424T070000Z
DTEND:20260424T084000Z
SUMMARY:Сопротивление материалов
LOCATION:ГК-2 503
END:VEVENT
BEGIN:VEVENT
UID:1i8f@192.168.245.71:3006
SEQUENCE:0
DTSTAMP:20260420T190525Z
DTSTART:20260424T090000Z
DTEND:20260424T104000Z
SUMMARY:Сопротивление материалов
LOCATION:ГК-2 503
END:VEVENT
END:VCALENDAR