BEGIN:VCALENDAR
VERSION:2.0
PRODID:-//spbstu.ru//ical//RU
NAME:Расписание
X-WR-CALNAME:Расписание
TIMEZONE-ID:Europe/Moscow
X-WR-TIMEZONE:Europe/Moscow
BEGIN:VEVENT
UID:kjm6@192.168.245.71:3006
SEQUENCE:0
DTSTAMP:20260420T221534Z
DTSTART:20260504T090000Z
DTEND:20260504T104000Z
SUMMARY:Сопротивление материалов
LOCATION:ГЗ 240
END:VEVENT
BEGIN:VEVENT
UID:7xn4@192.168.245.71:3006
SEQUENCE:0
DTSTAMP:20260420T221534Z
DTSTART:20260504T110000Z
DTEND:20260504T124000Z
SUMMARY:Сопротивление материалов
LOCATION:1 к. 413
END:VEVENT
BEGIN:VEVENT
UID:ho56@192.168.245.71:3006
SEQUENCE:0
DTSTAMP:20260420T221534Z
DTSTART:20260504T130000Z
DTEND:20260504T144000Z
SUMMARY:Сопротивление материалов
LOCATION:ГЗ 240
END:VEVENT
BEGIN:VEVENT
UID:9m7t@192.168.245.71:3006
SEQUENCE:0
DTSTAMP:20260420T221534Z
DTSTART:20260505T110000Z
DTEND:20260505T124000Z
SUMMARY:Сопротивление материалов
LOCATION:ГК-2 502
END:VEVENT
BEGIN:VEVENT
UID:i7ug@192.168.245.71:3006
SEQUENCE:0
DTSTAMP:20260420T221534Z
DTSTART:20260506T110000Z
DTEND:20260506T124000Z
SUMMARY:Сопротивление материалов
LOCATION:ГЗ 211
END:VEVENT
BEGIN:VEVENT
UID:zlec@192.168.245.71:3006
SEQUENCE:0
DTSTAMP:20260420T221534Z
DTSTART:20260506T130000Z
DTEND:20260506T144000Z
SUMMARY:Сопротивление материалов
LOCATION:ГЗ 211
END:VEVENT
BEGIN:VEVENT
UID:38z8@192.168.245.71:3006
SEQUENCE:0
DTSTAMP:20260420T221534Z
DTSTART:20260508T070000Z
DTEND:20260508T084000Z
SUMMARY:Сопротивление материалов
LOCATION:ГК-2 503
END:VEVENT
BEGIN:VEVENT
UID:iocc@192.168.245.71:3006
SEQUENCE:0
DTSTAMP:20260420T221534Z
DTSTART:20260508T090000Z
DTEND:20260508T104000Z
SUMMARY:Сопротивление материалов
LOCATION:ГК-2 503
END:VEVENT
END:VCALENDAR