BEGIN:VCALENDAR
VERSION:2.0
PRODID:-//spbstu.ru//ical//RU
NAME:Расписание
X-WR-CALNAME:Расписание
TIMEZONE-ID:Europe/Moscow
X-WR-TIMEZONE:Europe/Moscow
BEGIN:VEVENT
UID:5db1@192.168.245.71:3006
SEQUENCE:0
DTSTAMP:20260422T013057Z
DTSTART:20260216T090000Z
DTEND:20260216T104000Z
SUMMARY:Методы физического моделирования в ГГД
LOCATION:2 к. 143
END:VEVENT
BEGIN:VEVENT
UID:q2i5@192.168.245.71:3006
SEQUENCE:0
DTSTAMP:20260422T013057Z
DTSTART:20260217T070000Z
DTEND:20260217T084000Z
SUMMARY:Гидродинамика
LOCATION:НИК В2.02
END:VEVENT
BEGIN:VEVENT
UID:gpbv@192.168.245.71:3006
SEQUENCE:0
DTSTAMP:20260422T013057Z
DTSTART:20260218T090000Z
DTEND:20260218T103000Z
SUMMARY:Гидродинамика
LOCATION:1 к. каф. ГГТ\, 1 этаж
END:VEVENT
BEGIN:VEVENT
UID:ecu2@192.168.245.71:3006
SEQUENCE:0
DTSTAMP:20260422T013057Z
DTSTART:20260220T090000Z
DTEND:20260220T104000Z
SUMMARY:Методы физического моделирования в ГГД
LOCATION:1 к. каф. ГГТ\, 1 этаж
END:VEVENT
END:VCALENDAR