BEGIN:VCALENDAR
VERSION:2.0
PRODID:-//spbstu.ru//ical//RU
NAME:Расписание
X-WR-CALNAME:Расписание
TIMEZONE-ID:Europe/Moscow
X-WR-TIMEZONE:Europe/Moscow
BEGIN:VEVENT
UID:oubo@192.168.245.71:3006
SEQUENCE:0
DTSTAMP:20260420T235204Z
DTSTART:20260413T090000Z
DTEND:20260413T104000Z
SUMMARY:Методы физического моделирования в ГГД
LOCATION:2 к. 143
END:VEVENT
BEGIN:VEVENT
UID:jjxn@192.168.245.71:3006
SEQUENCE:0
DTSTAMP:20260420T235204Z
DTSTART:20260417T090000Z
DTEND:20260417T104000Z
SUMMARY:Методы физического моделирования в ГГД
LOCATION:1 к. каф. ГГТ\, 1 этаж
END:VEVENT
END:VCALENDAR