BEGIN:VCALENDAR
VERSION:2.0
PRODID:-//spbstu.ru//ical//RU
NAME:Расписание
X-WR-CALNAME:Расписание
TIMEZONE-ID:Europe/Moscow
X-WR-TIMEZONE:Europe/Moscow
BEGIN:VEVENT
UID:9c3y@192.168.245.71:3006
SEQUENCE:0
DTSTAMP:20260421T051358Z
DTSTART:20260407T070000Z
DTEND:20260407T084000Z
SUMMARY:Гидродинамика
LOCATION:НИК В2.02
END:VEVENT
BEGIN:VEVENT
UID:3lxq@192.168.245.71:3006
SEQUENCE:0
DTSTAMP:20260421T051358Z
DTSTART:20260410T090000Z
DTEND:20260410T104000Z
SUMMARY:Методы физического моделирования в ГГД
LOCATION:1 к. каф. ГГТ\, 1 этаж
END:VEVENT
END:VCALENDAR