BEGIN:VCALENDAR
VERSION:2.0
PRODID:-//spbstu.ru//ical//RU
NAME:Расписание
X-WR-CALNAME:Расписание
TIMEZONE-ID:Europe/Moscow
X-WR-TIMEZONE:Europe/Moscow
BEGIN:VEVENT
UID:yj3u@192.168.245.71:3006
SEQUENCE:0
DTSTAMP:20260425T115443Z
DTSTART:20250915T110000Z
DTEND:20250915T124000Z
SUMMARY:Теория вероятностей
LOCATION:50 уч.к 1242
END:VEVENT
BEGIN:VEVENT
UID:dhp9@192.168.245.71:3006
SEQUENCE:0
DTSTAMP:20260425T115443Z
DTSTART:20250915T130000Z
DTEND:20250915T144000Z
SUMMARY:Теория вероятностей
LOCATION:50 уч.к 1325
END:VEVENT
BEGIN:VEVENT
UID:6ixc@192.168.245.71:3006
SEQUENCE:0
DTSTAMP:20260425T115443Z
DTSTART:20250917T070000Z
DTEND:20250917T084000Z
SUMMARY:Теория вероятностей
LOCATION:50 уч.к 1239
END:VEVENT
BEGIN:VEVENT
UID:93xt@192.168.245.71:3006
SEQUENCE:0
DTSTAMP:20260425T115443Z
DTSTART:20250917T090000Z
DTEND:20250917T104000Z
SUMMARY:Теория вероятностей
LOCATION:50 уч.к 1239
END:VEVENT
BEGIN:VEVENT
UID:sbaa@192.168.245.71:3006
SEQUENCE:0
DTSTAMP:20260425T115443Z
DTSTART:20250918T130000Z
DTEND:20250918T144000Z
SUMMARY:Теория вероятностей
LOCATION:50 уч.к 1251
END:VEVENT
BEGIN:VEVENT
UID:hkxp@192.168.245.71:3006
SEQUENCE:0
DTSTAMP:20260425T115443Z
DTSTART:20250918T150000Z
DTEND:20250918T164000Z
SUMMARY:Высшая математика
LOCATION:50 уч.к 1251
END:VEVENT
END:VCALENDAR