BEGIN:VCALENDAR
VERSION:2.0
PRODID:-//spbstu.ru//ical//RU
NAME:Расписание
X-WR-CALNAME:Расписание
TIMEZONE-ID:Europe/Moscow
X-WR-TIMEZONE:Europe/Moscow
BEGIN:VEVENT
UID:0lva@192.168.245.71:3006
SEQUENCE:0
DTSTAMP:20260421T140101Z
DTSTART:20260401T070000Z
DTEND:20260401T084000Z
SUMMARY:Высшая математика
LOCATION:15 к. 605
END:VEVENT
BEGIN:VEVENT
UID:afv9@192.168.245.71:3006
SEQUENCE:0
DTSTAMP:20260421T140101Z
DTSTART:20260401T090000Z
DTEND:20260401T104000Z
SUMMARY:Высшая математика
LOCATION:15 к. 605
END:VEVENT
BEGIN:VEVENT
UID:bwsb@192.168.245.71:3006
SEQUENCE:0
DTSTAMP:20260421T140101Z
DTSTART:20260404T110000Z
DTEND:20260404T124000Z
SUMMARY:Высшая математика
LOCATION:50 уч.к 1235
END:VEVENT
END:VCALENDAR