BEGIN:VCALENDAR
VERSION:2.0
PRODID:-//spbstu.ru//ical//RU
NAME:Расписание
X-WR-CALNAME:Расписание
TIMEZONE-ID:Europe/Moscow
X-WR-TIMEZONE:Europe/Moscow
BEGIN:VEVENT
UID:rh2h@192.168.245.71:3006
SEQUENCE:0
DTSTAMP:20260422T002344Z
DTSTART:20260209T110000Z
DTEND:20260209T143000Z
SUMMARY:Радиотехнические цепи и сигналы
LOCATION:2 к. 240
END:VEVENT
BEGIN:VEVENT
UID:hj26@192.168.245.71:3006
SEQUENCE:0
DTSTAMP:20260422T002344Z
DTSTART:20260210T070000Z
DTEND:20260210T103000Z
SUMMARY:Радиотехнические цепи и сигналы
LOCATION:2 к. 240
END:VEVENT
BEGIN:VEVENT
UID:rdxu@192.168.245.71:3006
SEQUENCE:0
DTSTAMP:20260422T002344Z
DTSTART:20260212T070000Z
DTEND:20260212T103000Z
SUMMARY:Радиотехнические цепи и сигналы
LOCATION:2 к. 240
END:VEVENT
END:VCALENDAR