BEGIN:VCALENDAR
VERSION:2.0
PRODID:-//spbstu.ru//ical//RU
NAME:Расписание
X-WR-CALNAME:Расписание
TIMEZONE-ID:Europe/Moscow
X-WR-TIMEZONE:Europe/Moscow
BEGIN:VEVENT
UID:2gmz@192.168.245.71:3006
SEQUENCE:0
DTSTAMP:20260425T115243Z
DTSTART:20260303T110000Z
DTEND:20260303T124000Z
SUMMARY:Оптические явления в полупроводниках
LOCATION:2 к. 316
END:VEVENT
BEGIN:VEVENT
UID:u14c@192.168.245.71:3006
SEQUENCE:0
DTSTAMP:20260425T115243Z
DTSTART:20260304T090000Z
DTEND:20260304T104000Z
SUMMARY:Фотоэлектрические явления в полупроводниках
LOCATION:2 к. 213
END:VEVENT
BEGIN:VEVENT
UID:1g6c@192.168.245.71:3006
SEQUENCE:0
DTSTAMP:20260425T115243Z
DTSTART:20260306T110000Z
DTEND:20260306T124000Z
SUMMARY:Оптические явления в полупроводниках
LOCATION:2 к. 339
END:VEVENT
BEGIN:VEVENT
UID:rpth@192.168.245.71:3006
SEQUENCE:0
DTSTAMP:20260425T115243Z
DTSTART:20260306T130000Z
DTEND:20260306T135000Z
SUMMARY:Оптические явления в полупроводниках
LOCATION:2 к. 339
END:VEVENT
END:VCALENDAR