BEGIN:VCALENDAR
VERSION:2.0
PRODID:-//spbstu.ru//ical//RU
NAME:Расписание
X-WR-CALNAME:Расписание
TIMEZONE-ID:Europe/Moscow
X-WR-TIMEZONE:Europe/Moscow
BEGIN:VEVENT
UID:3tfg@192.168.245.71:3006
SEQUENCE:0
DTSTAMP:20260424T130309Z
DTSTART:20260324T110000Z
DTEND:20260324T124000Z
SUMMARY:Оптические явления в полупроводниках
LOCATION:2 к. 316
END:VEVENT
BEGIN:VEVENT
UID:rxxg@192.168.245.71:3006
SEQUENCE:0
DTSTAMP:20260424T130309Z
DTSTART:20260325T090000Z
DTEND:20260325T104000Z
SUMMARY:Фотоэлектрические явления в полупроводниках
LOCATION:2 к. 213
END:VEVENT
BEGIN:VEVENT
UID:ynd4@192.168.245.71:3006
SEQUENCE:0
DTSTAMP:20260424T130309Z
DTSTART:20260327T110000Z
DTEND:20260327T124000Z
SUMMARY:Оптические явления в полупроводниках
LOCATION:2 к. 339
END:VEVENT
BEGIN:VEVENT
UID:b5et@192.168.245.71:3006
SEQUENCE:0
DTSTAMP:20260424T130309Z
DTSTART:20260327T130000Z
DTEND:20260327T135000Z
SUMMARY:Оптические явления в полупроводниках
LOCATION:2 к. 339
END:VEVENT
END:VCALENDAR