BEGIN:VCALENDAR
VERSION:2.0
PRODID:-//spbstu.ru//ical//RU
NAME:Расписание
X-WR-CALNAME:Расписание
TIMEZONE-ID:Europe/Moscow
X-WR-TIMEZONE:Europe/Moscow
BEGIN:VEVENT
UID:z2qx@192.168.245.71:3006
SEQUENCE:0
DTSTAMP:20260424T080443Z
DTSTART:20260407T110000Z
DTEND:20260407T124000Z
SUMMARY:Оптические явления в полупроводниках
LOCATION:2 к. 316
END:VEVENT
BEGIN:VEVENT
UID:6rxj@192.168.245.71:3006
SEQUENCE:0
DTSTAMP:20260424T080443Z
DTSTART:20260408T090000Z
DTEND:20260408T104000Z
SUMMARY:Фотоэлектрические явления в полупроводниках
LOCATION:2 к. 213
END:VEVENT
BEGIN:VEVENT
UID:kat4@192.168.245.71:3006
SEQUENCE:0
DTSTAMP:20260424T080443Z
DTSTART:20260410T110000Z
DTEND:20260410T124000Z
SUMMARY:Оптические явления в полупроводниках
LOCATION:2 к. 339
END:VEVENT
BEGIN:VEVENT
UID:zke2@192.168.245.71:3006
SEQUENCE:0
DTSTAMP:20260424T080443Z
DTSTART:20260410T130000Z
DTEND:20260410T135000Z
SUMMARY:Оптические явления в полупроводниках
LOCATION:2 к. 339
END:VEVENT
END:VCALENDAR