BEGIN:VCALENDAR
VERSION:2.0
PRODID:-//spbstu.ru//ical//RU
NAME:Расписание
X-WR-CALNAME:Расписание
TIMEZONE-ID:Europe/Moscow
X-WR-TIMEZONE:Europe/Moscow
BEGIN:VEVENT
UID:kje0@192.168.245.71:3006
SEQUENCE:0
DTSTAMP:20260424T130318Z
DTSTART:20260504T130000Z
DTEND:20260504T143000Z
SUMMARY:Фотоэлектрические явления в полупроводниках
LOCATION:2 к. 213
END:VEVENT
BEGIN:VEVENT
UID:zx6f@192.168.245.71:3006
SEQUENCE:0
DTSTAMP:20260424T130318Z
DTSTART:20260505T090000Z
DTEND:20260505T130000Z
SUMMARY:Фотоэлектрические явления в полупроводниках
LOCATION:2 к. 209
END:VEVENT
BEGIN:VEVENT
UID:ac9w@192.168.245.71:3006
SEQUENCE:0
DTSTAMP:20260424T130318Z
DTSTART:20260507T130000Z
DTEND:20260507T143000Z
SUMMARY:Оптические явления в полупроводниках
LOCATION:2 к. 316
END:VEVENT
BEGIN:VEVENT
UID:4xv6@192.168.245.71:3006
SEQUENCE:0
DTSTAMP:20260424T130318Z
DTSTART:20260508T080000Z
DTEND:20260508T130000Z
SUMMARY:Оптические явления в полупроводниках
LOCATION:2 к. 316
END:VEVENT
END:VCALENDAR