BEGIN:VCALENDAR
VERSION:2.0
PRODID:-//spbstu.ru//ical//RU
NAME:Расписание
X-WR-CALNAME:Расписание
TIMEZONE-ID:Europe/Moscow
X-WR-TIMEZONE:Europe/Moscow
BEGIN:VEVENT
UID:1l11@192.168.245.71:3006
SEQUENCE:0
DTSTAMP:20260426T035302Z
DTSTART:20251105T070000Z
DTEND:20251105T084000Z
SUMMARY:Технология объектно-ориентированного программирования
LOCATION:11 к. 148
END:VEVENT
BEGIN:VEVENT
UID:29d6@192.168.245.71:3006
SEQUENCE:0
DTSTAMP:20260426T035302Z
DTSTART:20251105T090000Z
DTEND:20251105T104000Z
SUMMARY:Современные технологии параллельного программирования
LOCATION:11 к. 211
END:VEVENT
BEGIN:VEVENT
UID:3dbd@192.168.245.71:3006
SEQUENCE:0
DTSTAMP:20260426T035302Z
DTSTART:20251105T110000Z
DTEND:20251105T124000Z
SUMMARY:Методы и технологии анализа данных
LOCATION:11 к. 211
END:VEVENT
BEGIN:VEVENT
UID:bmmu@192.168.245.71:3006
SEQUENCE:0
DTSTAMP:20260426T035302Z
DTSTART:20251105T130000Z
DTEND:20251105T144000Z
SUMMARY:Методы и технологии анализа данных
LOCATION:11 к. 107
END:VEVENT
BEGIN:VEVENT
UID:g4wt@192.168.245.71:3006
SEQUENCE:0
DTSTAMP:20260426T035302Z
DTSTART:20251107T090000Z
DTEND:20251107T104000Z
SUMMARY:Технология объектно-ориентированного программирования
LOCATION:11 к. 216
END:VEVENT
END:VCALENDAR