BEGIN:VCALENDAR
VERSION:2.0
PRODID:-//spbstu.ru//ical//RU
NAME:Расписание
X-WR-CALNAME:Расписание
TIMEZONE-ID:Europe/Moscow
X-WR-TIMEZONE:Europe/Moscow
BEGIN:VEVENT
UID:x0ef@192.168.245.71:3006
SEQUENCE:0
DTSTAMP:20260421T182320Z
DTSTART:20260416T060000Z
DTEND:20260416T065000Z
SUMMARY:Методы и технологии анализа данных
LOCATION:11 к. 107
END:VEVENT
BEGIN:VEVENT
UID:timl@192.168.245.71:3006
SEQUENCE:0
DTSTAMP:20260421T182320Z
DTSTART:20260416T070000Z
DTEND:20260416T084000Z
SUMMARY:Методы и технологии анализа данных
LOCATION:11 к. 341
END:VEVENT
BEGIN:VEVENT
UID:kr7v@192.168.245.71:3006
SEQUENCE:0
DTSTAMP:20260421T182320Z
DTSTART:20260416T090000Z
DTEND:20260416T104000Z
SUMMARY:Технологии разработки программного обеспечения
LOCATION:11 к. 143
END:VEVENT
BEGIN:VEVENT
UID:l5w3@192.168.245.71:3006
SEQUENCE:0
DTSTAMP:20260421T182320Z
DTSTART:20260416T110000Z
DTEND:20260416T124000Z
SUMMARY:Технологии разработки программного обеспечения
LOCATION:11 к. 215
END:VEVENT
BEGIN:VEVENT
UID:enw8@192.168.245.71:3006
SEQUENCE:0
DTSTAMP:20260421T182320Z
DTSTART:20260417T070000Z
DTEND:20260417T084000Z
SUMMARY:Технологии разработки программного обеспечения
LOCATION:11 к. 218
END:VEVENT
END:VCALENDAR