BEGIN:VCALENDAR
VERSION:2.0
PRODID:-//spbstu.ru//ical//RU
NAME:Расписание
X-WR-CALNAME:Расписание
TIMEZONE-ID:Europe/Moscow
X-WR-TIMEZONE:Europe/Moscow
BEGIN:VEVENT
UID:t0r6@192.168.245.71:3006
SEQUENCE:0
DTSTAMP:20260421T150420Z
DTSTART:20260407T090000Z
DTEND:20260407T104000Z
SUMMARY:Технологии искусственного интеллекта для анализа данных
LOCATION:11 к. 341
END:VEVENT
BEGIN:VEVENT
UID:ml4m@192.168.245.71:3006
SEQUENCE:0
DTSTAMP:20260421T150420Z
DTSTART:20260407T110000Z
DTEND:20260407T124000Z
SUMMARY:Технологии искусственного интеллекта для анализа данных
LOCATION:11 к. 107
END:VEVENT
BEGIN:VEVENT
UID:wji4@192.168.245.71:3006
SEQUENCE:0
DTSTAMP:20260421T150420Z
DTSTART:20260407T130000Z
DTEND:20260407T144000Z
SUMMARY:Технологии искусственного интеллекта для анализа данных
LOCATION:11 к. 107
END:VEVENT
BEGIN:VEVENT
UID:p759@192.168.245.71:3006
SEQUENCE:0
DTSTAMP:20260421T150420Z
DTSTART:20260409T060000Z
DTEND:20260409T065000Z
SUMMARY:Методы и технологии анализа данных
LOCATION:11 к. 107
END:VEVENT
BEGIN:VEVENT
UID:gjw7@192.168.245.71:3006
SEQUENCE:0
DTSTAMP:20260421T150420Z
DTSTART:20260409T070000Z
DTEND:20260409T084000Z
SUMMARY:Методы и технологии анализа данных
LOCATION:11 к. 341
END:VEVENT
BEGIN:VEVENT
UID:zsmq@192.168.245.71:3006
SEQUENCE:0
DTSTAMP:20260421T150420Z
DTSTART:20260409T090000Z
DTEND:20260409T104000Z
SUMMARY:Технологии разработки программного обеспечения
LOCATION:11 к. 143
END:VEVENT
BEGIN:VEVENT
UID:4kgu@192.168.245.71:3006
SEQUENCE:0
DTSTAMP:20260421T150420Z
DTSTART:20260409T110000Z
DTEND:20260409T124000Z
SUMMARY:Технологии разработки программного обеспечения
LOCATION:11 к. 215
END:VEVENT
BEGIN:VEVENT
UID:z5eu@192.168.245.71:3006
SEQUENCE:0
DTSTAMP:20260421T150420Z
DTSTART:20260410T070000Z
DTEND:20260410T084000Z
SUMMARY:Технологии разработки программного обеспечения
LOCATION:11 к. 218
END:VEVENT
END:VCALENDAR