BEGIN:VCALENDAR
VERSION:2.0
PRODID:-//spbstu.ru//ical//RU
NAME:Расписание
X-WR-CALNAME:Расписание
TIMEZONE-ID:Europe/Moscow
X-WR-TIMEZONE:Europe/Moscow
BEGIN:VEVENT
UID:ofx6@192.168.245.71:3006
SEQUENCE:0
DTSTAMP:20260424T090301Z
DTSTART:20251202T130000Z
DTEND:20251202T144000Z
SUMMARY:Управление деятельностью строительной организации
LOCATION:50 уч.к 1251
END:VEVENT
BEGIN:VEVENT
UID:bws0@192.168.245.71:3006
SEQUENCE:0
DTSTAMP:20260424T090301Z
DTSTART:20251202T150000Z
DTEND:20251202T164000Z
SUMMARY:Управление деятельностью строительной организации
LOCATION:50 уч.к 1251
END:VEVENT
BEGIN:VEVENT
UID:nbx3@192.168.245.71:3006
SEQUENCE:0
DTSTAMP:20260424T090301Z
DTSTART:20251202T170000Z
DTEND:20251202T184000Z
SUMMARY:Управление деятельностью строительной организации
LOCATION:50 уч.к 1251
END:VEVENT
BEGIN:VEVENT
UID:ardz@192.168.245.71:3006
SEQUENCE:0
DTSTAMP:20260424T090301Z
DTSTART:20251203T090000Z
DTEND:20251203T104000Z
SUMMARY:Операционный менеджмент
LOCATION:50 уч.к 1432
END:VEVENT
BEGIN:VEVENT
UID:278x@192.168.245.71:3006
SEQUENCE:0
DTSTAMP:20260424T090301Z
DTSTART:20251203T110000Z
DTEND:20251203T124000Z
SUMMARY:Планирование бизнес-процессов
LOCATION:50 уч.к 1234
END:VEVENT
BEGIN:VEVENT
UID:bwd4@192.168.245.71:3006
SEQUENCE:0
DTSTAMP:20260424T090301Z
DTSTART:20251203T130000Z
DTEND:20251203T144000Z
SUMMARY:Планирование бизнес-процессов
LOCATION:50 уч.к 1234
END:VEVENT
BEGIN:VEVENT
UID:mc7e@192.168.245.71:3006
SEQUENCE:0
DTSTAMP:20260424T090301Z
DTSTART:20251204T070000Z
DTEND:20251204T084000Z
SUMMARY:Операционный менеджмент
LOCATION:50 уч.к 1206
END:VEVENT
BEGIN:VEVENT
UID:qqut@192.168.245.71:3006
SEQUENCE:0
DTSTAMP:20260424T090301Z
DTSTART:20251204T090000Z
DTEND:20251204T104000Z
SUMMARY:Операционный менеджмент
LOCATION:50 уч.к 1206
END:VEVENT
END:VCALENDAR