BEGIN:VCALENDAR
VERSION:2.0
PRODID:-//spbstu.ru//ical//RU
NAME:Расписание
X-WR-CALNAME:Расписание
TIMEZONE-ID:Europe/Moscow
X-WR-TIMEZONE:Europe/Moscow
BEGIN:VEVENT
UID:46u4@192.168.245.71:3006
SEQUENCE:0
DTSTAMP:20260424T071320Z
DTSTART:20251208T090000Z
DTEND:20251208T104000Z
SUMMARY:Организация налогового учета и налогового планирования предприятия
LOCATION:50 уч.к 1113
END:VEVENT
BEGIN:VEVENT
UID:ow6a@192.168.245.71:3006
SEQUENCE:0
DTSTAMP:20260424T071320Z
DTSTART:20251208T110000Z
DTEND:20251208T124000Z
SUMMARY:Организация налогового учета и налогового планирования предприятия
LOCATION:50 уч.к 1231
END:VEVENT
BEGIN:VEVENT
UID:hqvw@192.168.245.71:3006
SEQUENCE:0
DTSTAMP:20260424T071320Z
DTSTART:20251210T110000Z
DTEND:20251210T124000Z
SUMMARY:Планирование бизнес-процессов
LOCATION:50 уч.к 1234
END:VEVENT
BEGIN:VEVENT
UID:5kw2@192.168.245.71:3006
SEQUENCE:0
DTSTAMP:20260424T071320Z
DTSTART:20251210T130000Z
DTEND:20251210T144000Z
SUMMARY:Планирование бизнес-процессов
LOCATION:50 уч.к 1234
END:VEVENT
END:VCALENDAR