BEGIN:VCALENDAR
VERSION:2.0
PRODID:-//spbstu.ru//ical//RU
NAME:Расписание
X-WR-CALNAME:Расписание
TIMEZONE-ID:Europe/Moscow
X-WR-TIMEZONE:Europe/Moscow
BEGIN:VEVENT
UID:skou@192.168.245.71:3006
SEQUENCE:0
DTSTAMP:20260421T063845Z
DTSTART:20260422T070000Z
DTEND:20260422T084000Z
SUMMARY:Производственный менеджмент
LOCATION:50 уч.к 1316
END:VEVENT
BEGIN:VEVENT
UID:3k5i@192.168.245.71:3006
SEQUENCE:0
DTSTAMP:20260421T063845Z
DTSTART:20260422T090000Z
DTEND:20260422T104000Z
SUMMARY:Производственный менеджмент
LOCATION:50 уч.к 1218
END:VEVENT
BEGIN:VEVENT
UID:zzv0@192.168.245.71:3006
SEQUENCE:0
DTSTAMP:20260421T063845Z
DTSTART:20260424T070000Z
DTEND:20260424T084000Z
SUMMARY:Операционный менеджмент
LOCATION:50 уч.к 1432
END:VEVENT
END:VCALENDAR