BEGIN:VCALENDAR
VERSION:2.0
PRODID:-//spbstu.ru//ical//RU
NAME:Расписание
X-WR-CALNAME:Расписание
TIMEZONE-ID:Europe/Moscow
X-WR-TIMEZONE:Europe/Moscow
BEGIN:VEVENT
UID:mcwa@192.168.245.71:3006
SEQUENCE:0
DTSTAMP:20260424T061216Z
DTSTART:20251110T090000Z
DTEND:20251110T104000Z
SUMMARY:Электронный бизнес
LOCATION:50 уч.к 1433
END:VEVENT
BEGIN:VEVENT
UID:jdda@192.168.245.71:3006
SEQUENCE:0
DTSTAMP:20260424T061216Z
DTSTART:20251110T110000Z
DTEND:20251110T124000Z
SUMMARY:Управление развитием цифровых предприятий
LOCATION:50 уч.к 1113
END:VEVENT
BEGIN:VEVENT
UID:m89s@192.168.245.71:3006
SEQUENCE:0
DTSTAMP:20260424T061216Z
DTSTART:20251111T090000Z
DTEND:20251111T104000Z
SUMMARY:Проектное управление
LOCATION:50 уч.к 1245
END:VEVENT
BEGIN:VEVENT
UID:ldfp@192.168.245.71:3006
SEQUENCE:0
DTSTAMP:20260424T061216Z
DTSTART:20251111T110000Z
DTEND:20251111T124000Z
SUMMARY:Управление развитием цифровых предприятий
LOCATION:50 уч.к 1242
END:VEVENT
BEGIN:VEVENT
UID:nf7s@192.168.245.71:3006
SEQUENCE:0
DTSTAMP:20260424T061216Z
DTSTART:20251112T090000Z
DTEND:20251112T104000Z
SUMMARY:Проектное управление
LOCATION:50 уч.к 1104
END:VEVENT
BEGIN:VEVENT
UID:xos4@192.168.245.71:3006
SEQUENCE:0
DTSTAMP:20260424T061216Z
DTSTART:20251112T110000Z
DTEND:20251112T124000Z
SUMMARY:Проектное управление
LOCATION:50 уч.к 1104
END:VEVENT
BEGIN:VEVENT
UID:m0wi@192.168.245.71:3006
SEQUENCE:0
DTSTAMP:20260424T061216Z
DTSTART:20251112T130000Z
DTEND:20251112T144000Z
SUMMARY:Проектное управление
LOCATION:50 уч.к 1104
END:VEVENT
BEGIN:VEVENT
UID:pbgs@192.168.245.71:3006
SEQUENCE:0
DTSTAMP:20260424T061216Z
DTSTART:20251113T110000Z
DTEND:20251113T124000Z
SUMMARY:Теория систем
LOCATION:ГЗ 237
END:VEVENT
END:VCALENDAR