BEGIN:VCALENDAR
VERSION:2.0
PRODID:-//spbstu.ru//ical//RU
NAME:Расписание
X-WR-CALNAME:Расписание
TIMEZONE-ID:Europe/Moscow
X-WR-TIMEZONE:Europe/Moscow
BEGIN:VEVENT
UID:6wgh@192.168.245.71:3006
SEQUENCE:0
DTSTAMP:20260426T004423Z
DTSTART:20250915T090000Z
DTEND:20250915T104000Z
SUMMARY:Электронный бизнес
LOCATION:50 уч.к 1433
END:VEVENT
BEGIN:VEVENT
UID:b0m5@192.168.245.71:3006
SEQUENCE:0
DTSTAMP:20260426T004423Z
DTSTART:20250915T110000Z
DTEND:20250915T124000Z
SUMMARY:Управление развитием цифровых предприятий
LOCATION:50 уч.к 1113
END:VEVENT
BEGIN:VEVENT
UID:57gd@192.168.245.71:3006
SEQUENCE:0
DTSTAMP:20260426T004423Z
DTSTART:20250916T090000Z
DTEND:20250916T104000Z
SUMMARY:Проектное управление
LOCATION:50 уч.к 1245
END:VEVENT
BEGIN:VEVENT
UID:21e8@192.168.245.71:3006
SEQUENCE:0
DTSTAMP:20260426T004423Z
DTSTART:20250916T110000Z
DTEND:20250916T124000Z
SUMMARY:Управление развитием цифровых предприятий
LOCATION:50 уч.к 1242
END:VEVENT
BEGIN:VEVENT
UID:r7bs@192.168.245.71:3006
SEQUENCE:0
DTSTAMP:20260426T004423Z
DTSTART:20250916T144000Z
DTEND:20250916T152500Z
SUMMARY:Теория систем
LOCATION:50 уч.к 1211
END:VEVENT
BEGIN:VEVENT
UID:xi2m@192.168.245.71:3006
SEQUENCE:0
DTSTAMP:20260426T004423Z
DTSTART:20250917T090000Z
DTEND:20250917T104000Z
SUMMARY:Проектное управление
LOCATION:50 уч.к 1104
END:VEVENT
BEGIN:VEVENT
UID:4b9u@192.168.245.71:3006
SEQUENCE:0
DTSTAMP:20260426T004423Z
DTSTART:20250917T110000Z
DTEND:20250917T124000Z
SUMMARY:Проектное управление
LOCATION:50 уч.к 1104
END:VEVENT
BEGIN:VEVENT
UID:azzi@192.168.245.71:3006
SEQUENCE:0
DTSTAMP:20260426T004423Z
DTSTART:20250917T130000Z
DTEND:20250917T144000Z
SUMMARY:Проектное управление
LOCATION:50 уч.к 1104
END:VEVENT
BEGIN:VEVENT
UID:7a3e@192.168.245.71:3006
SEQUENCE:0
DTSTAMP:20260426T004423Z
DTSTART:20250918T110000Z
DTEND:20250918T124000Z
SUMMARY:Теория систем
LOCATION:ГЗ 237
END:VEVENT
END:VCALENDAR