BEGIN:VCALENDAR
VERSION:2.0
PRODID:-//spbstu.ru//ical//RU
NAME:Расписание
X-WR-CALNAME:Расписание
TIMEZONE-ID:Europe/Moscow
X-WR-TIMEZONE:Europe/Moscow
BEGIN:VEVENT
UID:0pmg@192.168.245.71:3006
SEQUENCE:0
DTSTAMP:20260422T234302Z
DTSTART:20260121T080000Z
DTEND:20260121T090000Z
SUMMARY:Электронный бизнес
LOCATION:50 уч.к 1432
END:VEVENT
BEGIN:VEVENT
UID:3lzh@192.168.245.71:3006
SEQUENCE:0
DTSTAMP:20260422T234302Z
DTSTART:20260123T070000Z
DTEND:20260123T103000Z
SUMMARY:Электронный бизнес
LOCATION:50 уч.к 1234
END:VEVENT
BEGIN:VEVENT
UID:pq8m@192.168.245.71:3006
SEQUENCE:0
DTSTAMP:20260422T234302Z
DTSTART:20260123T110000Z
DTEND:20260123T143000Z
SUMMARY:Электронный бизнес
LOCATION:50 уч.к 1234
END:VEVENT
END:VCALENDAR