BEGIN:VCALENDAR
VERSION:2.0
PRODID:-//spbstu.ru//ical//RU
NAME:Расписание
X-WR-CALNAME:Расписание
TIMEZONE-ID:Europe/Moscow
X-WR-TIMEZONE:Europe/Moscow
BEGIN:VEVENT
UID:gezn@192.168.245.71:3006
SEQUENCE:0
DTSTAMP:20260422T190320Z
DTSTART:20260202T153000Z
DTEND:20260202T170000Z
SUMMARY:Теория систем
LOCATION:50 уч.к 1424
END:VEVENT
BEGIN:VEVENT
UID:t5am@192.168.245.71:3006
SEQUENCE:0
DTSTAMP:20260422T190320Z
DTSTART:20260202T171500Z
DTEND:20260202T184500Z
SUMMARY:Теория систем
LOCATION:50 уч.к 1424
END:VEVENT
BEGIN:VEVENT
UID:iqwh@192.168.245.71:3006
SEQUENCE:0
DTSTAMP:20260422T190320Z
DTSTART:20260203T150000Z
DTEND:20260203T164000Z
SUMMARY:Технологии разработки программно-информационных систем на предприя
 тии
LOCATION:3 к. 406
END:VEVENT
BEGIN:VEVENT
UID:xcc6@192.168.245.71:3006
SEQUENCE:0
DTSTAMP:20260422T190320Z
DTSTART:20260203T170000Z
DTEND:20260203T184000Z
SUMMARY:Технологии разработки программно-информационных систем на предприя
 тии
LOCATION:3 к. 406
END:VEVENT
BEGIN:VEVENT
UID:718h@192.168.245.71:3006
SEQUENCE:0
DTSTAMP:20260422T190320Z
DTSTART:20260206T130000Z
DTEND:20260206T144000Z
SUMMARY:Проектно-технологическая практика
LOCATION:50 уч.к 1109
END:VEVENT
BEGIN:VEVENT
UID:lil0@192.168.245.71:3006
SEQUENCE:0
DTSTAMP:20260422T190320Z
DTSTART:20260206T150000Z
DTEND:20260206T164000Z
SUMMARY:Научно-исследовательская работа
LOCATION:50 уч.к 1109
END:VEVENT
BEGIN:VEVENT
UID:b0iy@192.168.245.71:3006
SEQUENCE:0
DTSTAMP:20260422T190320Z
DTSTART:20260206T170000Z
DTEND:20260206T184000Z
SUMMARY:Научно-исследовательская работа
LOCATION:50 уч.к 1109
END:VEVENT
END:VCALENDAR