BEGIN:VCALENDAR
VERSION:2.0
PRODID:-//spbstu.ru//ical//RU
NAME:Расписание
X-WR-CALNAME:Расписание
TIMEZONE-ID:Europe/Moscow
X-WR-TIMEZONE:Europe/Moscow
BEGIN:VEVENT
UID:nhw5@192.168.245.71:3006
SEQUENCE:0
DTSTAMP:20260421T051339Z
DTSTART:20260414T150000Z
DTEND:20260414T164000Z
SUMMARY:Технологии разработки программно-информационных систем на предприя
 тии
LOCATION:3 к. 406
END:VEVENT
BEGIN:VEVENT
UID:t57k@192.168.245.71:3006
SEQUENCE:0
DTSTAMP:20260421T051339Z
DTSTART:20260414T170000Z
DTEND:20260414T184000Z
SUMMARY:Технологии разработки программно-информационных систем на предприя
 тии
LOCATION:3 к. 406
END:VEVENT
END:VCALENDAR