BEGIN:VCALENDAR
VERSION:2.0
PRODID:-//spbstu.ru//ical//RU
NAME:Расписание
X-WR-CALNAME:Расписание
TIMEZONE-ID:Europe/Moscow
X-WR-TIMEZONE:Europe/Moscow
BEGIN:VEVENT
UID:hi7d@192.168.245.71:3006
SEQUENCE:0
DTSTAMP:20260421T032158Z
DTSTART:20260421T150000Z
DTEND:20260421T162000Z
SUMMARY:Технологии разработки программно-информационных систем на предприя
 тии
LOCATION:3 к. 406
END:VEVENT
END:VCALENDAR