BEGIN:VCALENDAR
VERSION:2.0
PRODID:-//spbstu.ru//ical//RU
NAME:Расписание
X-WR-CALNAME:Расписание
TIMEZONE-ID:Europe/Moscow
X-WR-TIMEZONE:Europe/Moscow
BEGIN:VEVENT
UID:w3pm@192.168.245.71:3006
SEQUENCE:0
DTSTAMP:20260421T114752Z
DTSTART:20260526T150000Z
DTEND:20260526T164000Z
SUMMARY:Научно-исследовательская работа
LOCATION:50 уч.к 1217
END:VEVENT
BEGIN:VEVENT
UID:xhoo@192.168.245.71:3006
SEQUENCE:0
DTSTAMP:20260421T114752Z
DTSTART:20260527T150000Z
DTEND:20260527T164000Z
SUMMARY:Проектно-технологическая практика
LOCATION:50 уч.к 1217
END:VEVENT
BEGIN:VEVENT
UID:uyox@192.168.245.71:3006
SEQUENCE:0
DTSTAMP:20260421T114752Z
DTSTART:20260528T153000Z
DTEND:20260528T170000Z
SUMMARY:Теория систем
LOCATION:50 уч.к 1336а
END:VEVENT
END:VCALENDAR