BEGIN:VCALENDAR
VERSION:2.0
PRODID:-//spbstu.ru//ical//RU
NAME:Расписание
X-WR-CALNAME:Расписание
TIMEZONE-ID:Europe/Moscow
X-WR-TIMEZONE:Europe/Moscow
BEGIN:VEVENT
UID:bude@192.168.245.71:3006
SEQUENCE:0
DTSTAMP:20260425T105054Z
DTSTART:20250908T130000Z
DTEND:20250908T144000Z
SUMMARY:Компьютерные сети
LOCATION:3 к. 201
END:VEVENT
BEGIN:VEVENT
UID:opvo@192.168.245.71:3006
SEQUENCE:0
DTSTAMP:20260425T105054Z
DTSTART:20250911T090000Z
DTEND:20250911T104000Z
SUMMARY:Безопасность компьютерных сетей
LOCATION:ГЗ 235
END:VEVENT
BEGIN:VEVENT
UID:vwlk@192.168.245.71:3006
SEQUENCE:0
DTSTAMP:20260425T105054Z
DTSTART:20250912T150000Z
DTEND:20250912T164000Z
SUMMARY:Иностранный язык в профессиональной коммуникации\, Английский
LOCATION:11 к. 316
END:VEVENT
BEGIN:VEVENT
UID:u6mt@192.168.245.71:3006
SEQUENCE:0
DTSTAMP:20260425T105054Z
DTSTART:20250912T170000Z
DTEND:20250912T184000Z
SUMMARY:Иностранный язык в профессиональной коммуникации\, Английский
LOCATION:11 к. 309
END:VEVENT
END:VCALENDAR