BEGIN:VCALENDAR
VERSION:2.0
PRODID:-//spbstu.ru//ical//RU
NAME:Расписание
X-WR-CALNAME:Расписание
TIMEZONE-ID:Europe/Moscow
X-WR-TIMEZONE:Europe/Moscow
BEGIN:VEVENT
UID:ghqe@192.168.245.71:3006
SEQUENCE:0
DTSTAMP:20260421T095312Z
DTSTART:20260414T090000Z
DTEND:20260414T104000Z
SUMMARY:Компьютерные сети
LOCATION:ГЗ 237
END:VEVENT
BEGIN:VEVENT
UID:67qb@192.168.245.71:3006
SEQUENCE:0
DTSTAMP:20260421T095312Z
DTSTART:20260417T130000Z
DTEND:20260417T144000Z
SUMMARY:Безопасность сетевых технологий
LOCATION:11 к. 328
END:VEVENT
END:VCALENDAR