BEGIN:VCALENDAR
VERSION:2.0
PRODID:-//spbstu.ru//ical//RU
NAME:Расписание
X-WR-CALNAME:Расписание
TIMEZONE-ID:Europe/Moscow
X-WR-TIMEZONE:Europe/Moscow
BEGIN:VEVENT
UID:i6g2@192.168.245.71:3006
SEQUENCE:0
DTSTAMP:20260422T063423Z
DTSTART:20260204T110000Z
DTEND:20260204T124000Z
SUMMARY:Электродинамика
LOCATION:2 к. 339
END:VEVENT
BEGIN:VEVENT
UID:dj58@192.168.245.71:3006
SEQUENCE:0
DTSTAMP:20260422T063423Z
DTSTART:20260204T130000Z
DTEND:20260204T135000Z
SUMMARY:Электродинамика
LOCATION:2 к. 339
END:VEVENT
BEGIN:VEVENT
UID:eprd@192.168.245.71:3006
SEQUENCE:0
DTSTAMP:20260422T063423Z
DTSTART:20260207T080000Z
DTEND:20260207T085000Z
SUMMARY:Электродинамика
LOCATION:2 к. 325
END:VEVENT
BEGIN:VEVENT
UID:8kno@192.168.245.71:3006
SEQUENCE:0
DTSTAMP:20260422T063423Z
DTSTART:20260207T090000Z
DTEND:20260207T104000Z
SUMMARY:Электродинамика
LOCATION:2 к. 325
END:VEVENT
END:VCALENDAR