BEGIN:VCALENDAR
VERSION:2.0
PRODID:-//spbstu.ru//ical//RU
NAME:Расписание
X-WR-CALNAME:Расписание
TIMEZONE-ID:Europe/Moscow
X-WR-TIMEZONE:Europe/Moscow
BEGIN:VEVENT
UID:i8l1@192.168.245.71:3006
SEQUENCE:0
DTSTAMP:20260421T065756Z
DTSTART:20260415T110000Z
DTEND:20260415T124000Z
SUMMARY:Электродинамика
LOCATION:2 к. 339
END:VEVENT
BEGIN:VEVENT
UID:qdma@192.168.245.71:3006
SEQUENCE:0
DTSTAMP:20260421T065756Z
DTSTART:20260415T130000Z
DTEND:20260415T135000Z
SUMMARY:Электродинамика
LOCATION:2 к. 339
END:VEVENT
BEGIN:VEVENT
UID:9gef@192.168.245.71:3006
SEQUENCE:0
DTSTAMP:20260421T065756Z
DTSTART:20260418T080000Z
DTEND:20260418T085000Z
SUMMARY:Электродинамика
LOCATION:2 к. 325
END:VEVENT
BEGIN:VEVENT
UID:lko0@192.168.245.71:3006
SEQUENCE:0
DTSTAMP:20260421T065756Z
DTSTART:20260418T090000Z
DTEND:20260418T104000Z
SUMMARY:Электродинамика
LOCATION:2 к. 325
END:VEVENT
END:VCALENDAR