BEGIN:VCALENDAR
VERSION:2.0
PRODID:-//spbstu.ru//ical//RU
NAME:Расписание
X-WR-CALNAME:Расписание
TIMEZONE-ID:Europe/Moscow
X-WR-TIMEZONE:Europe/Moscow
BEGIN:VEVENT
UID:ptr7@192.168.245.71:3006
SEQUENCE:0
DTSTAMP:20260421T102616Z
DTSTART:20260523T080000Z
DTEND:20260523T085000Z
SUMMARY:Электродинамика
LOCATION:2 к. 325
END:VEVENT
BEGIN:VEVENT
UID:2m8m@192.168.245.71:3006
SEQUENCE:0
DTSTAMP:20260421T102616Z
DTSTART:20260523T090000Z
DTEND:20260523T104000Z
SUMMARY:Электродинамика
LOCATION:2 к. 325
END:VEVENT
END:VCALENDAR