BEGIN:VCALENDAR
VERSION:2.0
PRODID:-//spbstu.ru//ical//RU
NAME:Расписание
X-WR-CALNAME:Расписание
TIMEZONE-ID:Europe/Moscow
X-WR-TIMEZONE:Europe/Moscow
BEGIN:VEVENT
UID:m1xh@192.168.245.71:3006
SEQUENCE:0
DTSTAMP:20260426T022414Z
DTSTART:20251027T070000Z
DTEND:20251027T084000Z
SUMMARY:Теория обработки металлов давлением
LOCATION:ЛабК кафедра МиТОД
END:VEVENT
BEGIN:VEVENT
UID:1zkl@192.168.245.71:3006
SEQUENCE:0
DTSTAMP:20260426T022414Z
DTSTART:20251027T090000Z
DTEND:20251027T104000Z
SUMMARY:Теория обработки металлов давлением
LOCATION:ЛабК РГЦЛТ
END:VEVENT
BEGIN:VEVENT
UID:8fpa@192.168.245.71:3006
SEQUENCE:0
DTSTAMP:20260426T022414Z
DTSTART:20251027T130000Z
DTEND:20251027T144000Z
SUMMARY:Теория обработки металлов давлением
LOCATION:Мех. к. каф.Т М
END:VEVENT
BEGIN:VEVENT
UID:wvn3@192.168.245.71:3006
SEQUENCE:0
DTSTAMP:20260426T022414Z
DTSTART:20251028T090000Z
DTEND:20251028T113000Z
SUMMARY:Технологические процессы объемной штамповки (на английском языке)
LOCATION:ЛабК кафедра МиТОД
END:VEVENT
BEGIN:VEVENT
UID:sdi2@192.168.245.71:3006
SEQUENCE:0
DTSTAMP:20260426T022414Z
DTSTART:20251030T090000Z
DTEND:20251030T104000Z
SUMMARY:История и методология науки
LOCATION:ЛабК кафедра МиТОД
END:VEVENT
BEGIN:VEVENT
UID:wfdi@192.168.245.71:3006
SEQUENCE:0
DTSTAMP:20260426T022414Z
DTSTART:20251030T090000Z
DTEND:20251030T104000Z
SUMMARY:История и методология науки
LOCATION:ЛабК кафедра МиТОД
END:VEVENT
BEGIN:VEVENT
UID:gxwd@192.168.245.71:3006
SEQUENCE:0
DTSTAMP:20260426T022414Z
DTSTART:20251030T110000Z
DTEND:20251030T124000Z
SUMMARY:Системное проектирование в машиностроении
LOCATION:ЛабК кафедра МиТОД
END:VEVENT
BEGIN:VEVENT
UID:gh0x@192.168.245.71:3006
SEQUENCE:0
DTSTAMP:20260426T022414Z
DTSTART:20251030T130000Z
DTEND:20251030T144000Z
SUMMARY:История и методология науки
LOCATION:ЛабК кафедра МиТОД
END:VEVENT
BEGIN:VEVENT
UID:i162@192.168.245.71:3006
SEQUENCE:0
DTSTAMP:20260426T022414Z
DTSTART:20251031T060000Z
DTEND:20251031T065000Z
SUMMARY:История и методология науки
LOCATION:ЛабК кафедра МиТОД
END:VEVENT
BEGIN:VEVENT
UID:2tca@192.168.245.71:3006
SEQUENCE:0
DTSTAMP:20260426T022414Z
DTSTART:20251031T070000Z
DTEND:20251031T084000Z
SUMMARY:Системное проектирование в машиностроении
LOCATION:ЛабК кафедра МиТОД
END:VEVENT
BEGIN:VEVENT
UID:tzow@192.168.245.71:3006
SEQUENCE:0
DTSTAMP:20260426T022414Z
DTSTART:20251031T090000Z
DTEND:20251031T104000Z
SUMMARY:Системное проектирование в машиностроении
LOCATION:ЛабК кафедра МиТОД
END:VEVENT
END:VCALENDAR