BEGIN:VCALENDAR
VERSION:2.0
PRODID:-//spbstu.ru//ical//RU
NAME:Расписание
X-WR-CALNAME:Расписание
TIMEZONE-ID:Europe/Moscow
X-WR-TIMEZONE:Europe/Moscow
BEGIN:VEVENT
UID:42jn@192.168.245.71:3006
SEQUENCE:0
DTSTAMP:20260424T050028Z
DTSTART:20260122T070000Z
DTEND:20260122T074500Z
SUMMARY:Системное проектирование в машиностроении
LOCATION:ЛабК кафедра МиТОД
END:VEVENT
BEGIN:VEVENT
UID:36s8@192.168.245.71:3006
SEQUENCE:0
DTSTAMP:20260424T050028Z
DTSTART:20260122T070000Z
DTEND:20260122T074500Z
SUMMARY:Системное проектирование в машиностроении
LOCATION:ЛабК кафедра МиТОД
END:VEVENT
BEGIN:VEVENT
UID:bpex@192.168.245.71:3006
SEQUENCE:0
DTSTAMP:20260424T050028Z
DTSTART:20260122T070000Z
DTEND:20260122T074500Z
SUMMARY:Системное проектирование в машиностроении
LOCATION:ЛабК кафедра МиТОД
END:VEVENT
BEGIN:VEVENT
UID:re8z@192.168.245.71:3006
SEQUENCE:0
DTSTAMP:20260424T050028Z
DTSTART:20260123T070000Z
DTEND:20260123T110000Z
SUMMARY:Системное проектирование в машиностроении
LOCATION:ЛабК кафедра МиТОД
END:VEVENT
BEGIN:VEVENT
UID:ldm4@192.168.245.71:3006
SEQUENCE:0
DTSTAMP:20260424T050028Z
DTSTART:20260123T110000Z
DTEND:20260123T140000Z
SUMMARY:Системное проектирование в машиностроении
LOCATION:ЛабК кафедра МиТОД
END:VEVENT
BEGIN:VEVENT
UID:779g@192.168.245.71:3006
SEQUENCE:0
DTSTAMP:20260424T050028Z
DTSTART:20260124T070000Z
DTEND:20260124T110000Z
SUMMARY:Системное проектирование в машиностроении
LOCATION:ЛабК кафедра МиТОД
END:VEVENT
END:VCALENDAR