BEGIN:VCALENDAR
VERSION:2.0
PRODID:-//spbstu.ru//ical//RU
NAME:Расписание
X-WR-CALNAME:Расписание
TIMEZONE-ID:Europe/Moscow
X-WR-TIMEZONE:Europe/Moscow
BEGIN:VEVENT
UID:27k4@192.168.245.71:3006
SEQUENCE:0
DTSTAMP:20260426T010722Z
DTSTART:20250902T130000Z
DTEND:20250902T144000Z
SUMMARY:Физика
LOCATION:ГЗ 155
END:VEVENT
BEGIN:VEVENT
UID:xb3q@192.168.245.71:3006
SEQUENCE:0
DTSTAMP:20260426T010722Z
DTSTART:20250903T070000Z
DTEND:20250903T084000Z
SUMMARY:Физика
LOCATION:ГЗ 245
END:VEVENT
BEGIN:VEVENT
UID:s36o@192.168.245.71:3006
SEQUENCE:0
DTSTAMP:20260426T010722Z
DTSTART:20250905T090000Z
DTEND:20250905T104000Z
SUMMARY:Физика
LOCATION:ГЗ 324
END:VEVENT
BEGIN:VEVENT
UID:cw09@192.168.245.71:3006
SEQUENCE:0
DTSTAMP:20260426T010722Z
DTSTART:20250905T110000Z
DTEND:20250905T124000Z
SUMMARY:Физика
LOCATION:ГЗ 245
END:VEVENT
END:VCALENDAR