BEGIN:VCALENDAR
VERSION:2.0
PRODID:-//spbstu.ru//ical//RU
NAME:Расписание
X-WR-CALNAME:Расписание
TIMEZONE-ID:Europe/Moscow
X-WR-TIMEZONE:Europe/Moscow
BEGIN:VEVENT
UID:76q8@192.168.245.71:3006
SEQUENCE:0
DTSTAMP:20260422T110730Z
DTSTART:20260202T090000Z
DTEND:20260202T104000Z
SUMMARY:Специальные главы физики
LOCATION:ГЗ 184
END:VEVENT
BEGIN:VEVENT
UID:3r4e@192.168.245.71:3006
SEQUENCE:0
DTSTAMP:20260422T110730Z
DTSTART:20260202T110000Z
DTEND:20260202T124000Z
SUMMARY:Специальные главы физики
LOCATION:ГЗ 184
END:VEVENT
BEGIN:VEVENT
UID:zadt@192.168.245.71:3006
SEQUENCE:0
DTSTAMP:20260422T110730Z
DTSTART:20260202T130000Z
DTEND:20260202T144000Z
SUMMARY:Физика
LOCATION:ГЗ 186 А
END:VEVENT
END:VCALENDAR